BEGIN:VCALENDAR
VERSION:2.0
PRODID:-//Pokładykultury.eu - ECPv5.16.3.1//NONSGML v1.0//EN
CALSCALE:GREGORIAN
METHOD:PUBLISH
X-WR-CALNAME:Pokładykultury.eu
X-ORIGINAL-URL:https://pokladykultury.eu
X-WR-CALDESC:Wydarzenia dla Pokładykultury.eu
REFRESH-INTERVAL;VALUE=DURATION:PT1H
X-Robots-Tag:noindex
X-PUBLISHED-TTL:PT1H
BEGIN:VTIMEZONE
TZID:Europe/Warsaw
BEGIN:DAYLIGHT
TZOFFSETFROM:+0100
TZOFFSETTO:+0200
TZNAME:CEST
DTSTART:20230326T010000
END:DAYLIGHT
BEGIN:STANDARD
TZOFFSETFROM:+0200
TZOFFSETTO:+0100
TZNAME:CET
DTSTART:20231029T010000
END:STANDARD
END:VTIMEZONE
BEGIN:VEVENT
DTSTART;TZID=Europe/Warsaw:20230101T180000
DTEND;TZID=Europe/Warsaw:20230101T200000
DTSTAMP:20260420T151448
CREATED:20221227T115515Z
LAST-MODIFIED:20221227T115515Z
UID:6251-1672596000-1672603200@pokladykultury.eu
SUMMARY:Wielka Gala Opery i Operetki w Koncercie Noworocznym
DESCRIPTION:Dom Muzyki i Tańca w Zabrzu zaprasza na Wielką Galę Opery i Operetki w Koncercie Noworocznym.\n \nTo już wieloletnia tradycja w Zabrzu\, dlatego również nadchodzący 2023 r. rozpoczniemy w Domu Muzyki i Tańca Koncertem Noworocznym w wykonaniu Orkiestry Symfonicznej Filharmonii Zabrzańskiej pod dyrekcją Sławomira Chrzanowskiego. Tym razem zabrzańskim filharmonikom towarzyszyć będą: Joanna Radziszewska-Sojka – sopran\, Natalia Płonka – mezzosopran\, Staś Napierała – tenor\, Martin Filipiak – baryton\, Marta Żabka\, Joanna Lichorowicz-Greś\, Adam Czechlewski\, Sławomir Greś – tancerze\, Zofia Czechlewska – choreografia i kostiumy.\n \nMuzyczne przywitanie Nowego Roku poświęcone będzie muzyce operowej i operetkowej. Podczas Gali usłyszymy najbardziej znane arie oraz popularne pieśni i piosenki z nieco lżejszą nutą rodem z wodewilu.
URL:https://pokladykultury.eu/event/wielka-gala-opery-i-operetki-w-koncercie-noworocznym/
LOCATION:Dom Muzyki i Tańca w Zabrzu\, ul. Gen. de Gaulle'a 17\, Zabrze\, śląskie\, 41-800\, Poland
ATTACH;FMTTYPE=image/jpeg:https://pokladykultury.eu/wp-content/uploads/2022/12/Koncert-Noworoczny-1.jpg
END:VEVENT
END:VCALENDAR