BEGIN:VCALENDAR
VERSION:2.0
PRODID:-//Pokładykultury.eu - ECPv5.16.3.1//NONSGML v1.0//EN
CALSCALE:GREGORIAN
METHOD:PUBLISH
X-WR-CALNAME:Pokładykultury.eu
X-ORIGINAL-URL:https://pokladykultury.eu
X-WR-CALDESC:Wydarzenia dla Pokładykultury.eu
REFRESH-INTERVAL;VALUE=DURATION:PT1H
X-Robots-Tag:noindex
X-PUBLISHED-TTL:PT1H
BEGIN:VTIMEZONE
TZID:Europe/Warsaw
BEGIN:DAYLIGHT
TZOFFSETFROM:+0100
TZOFFSETTO:+0200
TZNAME:CEST
DTSTART:20240331T010000
END:DAYLIGHT
BEGIN:STANDARD
TZOFFSETFROM:+0200
TZOFFSETTO:+0100
TZNAME:CET
DTSTART:20241027T010000
END:STANDARD
END:VTIMEZONE
BEGIN:VEVENT
DTSTART;TZID=Europe/Warsaw:20241116T130000
DTEND;TZID=Europe/Warsaw:20241116T210000
DTSTAMP:20260420T004849
CREATED:20241112T075647Z
LAST-MODIFIED:20241112T075701Z
UID:13573-1731762000-1731790800@pokladykultury.eu
SUMMARY:Planszówki w Arenie Zabrze
DESCRIPTION:W sobotę\, 16 listopada zapraszamy do wspólnego grania w planszówki na Arena Zabrze. Współorganizatorem jest Ludiversum – kawiarnia planszówkowa. Wydarzenie skierowane jest zarówno do miłośników gier\, jak i osób\, które chcą dopiero poznać radość płynącą ze wspólnego spędzania czasu przy grach planszowych.\n \n\n\nCzeka na Was sporo atrakcji:\n ponad 200 planszówek do grania: od prostych i imprezowych\, przez gry rodzinne\, aż do złożonych strategii;\n pomocni animatorzy tłumaczący zasady;\n prezentacje nowości wydawniczych;\n puzzle.\n\n\n \nBilety do kupienia w recepcji VIP w dzień wydarzenia:– zwykły: 30 zł– ulgowy: 20 zł (dla dzieci\, młodzieży\, studentów – za okazaniem legitymacji)\n \nZapraszamy
URL:https://pokladykultury.eu/event/planszowki-w-arenie-zabrze/
LOCATION:Arena Zabrze\, ul. Roosevelta 81\, Zabrze\, śląskie\, 41-800\, Poland
ATTACH;FMTTYPE=image/jpeg:https://pokladykultury.eu/wp-content/uploads/2024/11/Planszowki.jpg
END:VEVENT
END:VCALENDAR