BEGIN:VCALENDAR
VERSION:2.0
PRODID:-//Pokładykultury.eu - ECPv5.16.3.1//NONSGML v1.0//EN
CALSCALE:GREGORIAN
METHOD:PUBLISH
X-WR-CALNAME:Pokładykultury.eu
X-ORIGINAL-URL:https://pokladykultury.eu
X-WR-CALDESC:Wydarzenia dla Pokładykultury.eu
REFRESH-INTERVAL;VALUE=DURATION:PT1H
X-Robots-Tag:noindex
X-PUBLISHED-TTL:PT1H
BEGIN:VTIMEZONE
TZID:Europe/Warsaw
BEGIN:DAYLIGHT
TZOFFSETFROM:+0100
TZOFFSETTO:+0200
TZNAME:CEST
DTSTART:20240331T010000
END:DAYLIGHT
BEGIN:STANDARD
TZOFFSETFROM:+0200
TZOFFSETTO:+0100
TZNAME:CET
DTSTART:20241027T010000
END:STANDARD
END:VTIMEZONE
BEGIN:VEVENT
DTSTART;TZID=Europe/Warsaw:20240310T140000
DTEND;TZID=Europe/Warsaw:20240310T151500
DTSTAMP:20260421T222513
CREATED:20240223T095402Z
LAST-MODIFIED:20240223T115313Z
UID:10279-1710079200-1710083700@pokladykultury.eu
SUMMARY:HAU HAU Show - interaktywny spektakl dla dzieci
DESCRIPTION:Miejski Ośrodek Kultury w Zabrzu zaprasza na HAU-HAU Show\, spektakl interaktywny dla dzieci. 10 marca 2024\, godz. 13.00. \nDawno temu… A może niedawno? W Zatoce Przygód mieszkała ekipa ratunkowa: odważne szczenięta. Pewnego dnia zdecydowały\, by wyruszyć w daleką przygodę w poszukiwaniu kociaka. Ale gdy tylko pomyślały o wyprawie\, ich dom wywrócił się do góry nogami. Zwykła sofa zamieniła się w ogromny statek\, białe zasłony w żagiel\, a czerpak stał się środkiem ochrony przed piratami. \nNA MIEJSCA\, GOTOWI\, START! \nRozpoczyna się prawdziwa przygoda! Wszystkie meble w pokoju zamieniają się w magiczny statek. Ale czym jest statek bez kapitana? Podaj cumę! Ekipa ratunkowa jest w drodze! Najpierw spotykają zadziornego\, głodnego rekina. Czy ktoś wie\, co rekin je na obiad? Oczywiście\, dzieciaki wiedzą! Szczenięta przygotowują pyszny posiłek\, karmią wygłodniałe zwierzę\, a nawet…zaprzyjaźniają się z nim! A co to jest na horyzoncie?! Tak\, to prawdziwi piraci! Załoga nigdy nie widziała piratów\, ale chyba też nie chce ich bliżej poznać…Szczeniaki wymyślają śmieszne duchy\, które sprawiają\, że tubylcy drżą ze strachu! Nagle na niebie pojawia się ogromna chmura\, a nasi bohaterowie muszą zmierzyć się ze straszną burzą\, podczas której ich łódź zostaje porwana na otwarte morze. Ta przygoda nigdy się nie kończy! Co wydarzyło się później\, możesz dowiedzieć się\, odwiedzając interaktywny spektakl dla najmłodszych „HAU-HAU Show”. \nW spektaklu dzieci: \n• pomagają szczeniakom znaleźć tajemniczą wyspę;\n• walczą z piratami;\n• uczą się tańców piratów;\n• rzucają ogromnymi piłkami;\n• zbierają owoce;\n• tańczą i śpiewają. \nBILETY w cenie 50\, 60\, lub 70 zł/os. dostępne:\n– w serwisie KupBilecik\n– w serwisie Biletyna \nDzieci do 3 r.ż. – wstęp bezpłatny (zajmują miejsce na kolanach rodzica/opiekuna).\nMiejsca numerowane. \nCzas trwania: ok. 75 minut (z 15-minutową przerwę) \n  \nMiejski Ośrodek Kultury w Zabrzu\nul. 3 Maja 91a \nOrganizator: Rubik sp. z o.o. Teatr Tut
URL:https://pokladykultury.eu/event/hau-hau-show-interaktywny-spektakl-dla-dzieci/
LOCATION:Miejski Ośrodek Kultury w Zabrzu\, ul. 3 Maja 91a\, Zabrze\, śląskie\, 41-800\, Poland
ATTACH;FMTTYPE=image/png:https://pokladykultury.eu/wp-content/uploads/2024/02/Hau-hau.png
END:VEVENT
BEGIN:VEVENT
DTSTART;TZID=Europe/Warsaw:20240322T200000
DTEND;TZID=Europe/Warsaw:20240322T220000
DTSTAMP:20260421T222513
CREATED:20240221T080313Z
LAST-MODIFIED:20240221T080313Z
UID:10236-1711137600-1711144800@pokladykultury.eu
SUMMARY:WIOLKA WALASZCZYK Stand-up
DESCRIPTION:Wiolka Walaszczyk wystąpi w Miejskim Ośrodku Kultury w Zabrzu w najnowszym\, autorskim programie! \n„No i witam ponownie! Kochani\, zapraszam Was serdecznie na wieczór pełen abstrakcji\, bezkompromisowych żartów i jakże dzikich przemyśleń mojej kudłatej głowy. Porzućcie konwenanse i wpadajcie oczyścić głowę podczas pięknie zwariowanego wieczoru stand-upowego. Ściskam Was mocno i do zobaczenia – Wiolix.” \nWydarzenie przeznaczone jest dla widzów dorosłych.   \nBilety: 70 zł/os. (dostępne w serwisie KupBilecik)\nMiejsca numerowane. \nMiejski Ośrodek Kultury w Zabrzu\, ul. 3 Maja 91a \nOrganizator: FRENSYS END FRENSYS KOMPANY Magdalena Imiołczyk
URL:https://pokladykultury.eu/event/wiolka-walaszczyk-stand-up/
LOCATION:Miejski Ośrodek Kultury w Zabrzu\, ul. 3 Maja 91a\, Zabrze\, śląskie\, 41-800\, Poland
ATTACH;FMTTYPE=image/jpeg:https://pokladykultury.eu/wp-content/uploads/2024/02/Stand_up_Wiolka-Walaszczyk_baner_rgb.jpg
END:VEVENT
BEGIN:VEVENT
DTSTART;TZID=Europe/Warsaw:20240323T190000
DTEND;TZID=Europe/Warsaw:20240323T200000
DTSTAMP:20260421T222513
CREATED:20240313T062408Z
LAST-MODIFIED:20240313T062408Z
UID:10514-1711220400-1711224000@pokladykultury.eu
SUMMARY:Wisławie - Grażyna
DESCRIPTION:W roku 2023 Grażyna Szapołowska\, ceniona aktorka teatralna i filmowa\, obchodzi specjalny jubileusz. Z tej okazji artystka przygotowała spektakl słowno-muzyczny pt. „Wisławie-Grażyna”\, który jest dedykowany polskiej noblistce w 100-lecie urodzin.\n \nNa program spektaklu złożą się m.in. takie wiersze jak: „Nic dwa razy się nie zdarza”\, „Portret kobiecy” czy „Muzeum”\, uzupełniane wspomnieniami o poetce.\n \nSpektakl odbędzie się na podstawie scenariusza i w reżyserii Katarzyny Jungowskiej\, autorem muzyki jest kompozytorka Karo Glazer\, światła wyreżyseruje Jacqueline Sobiszewski. Grażynie Szapołowskiej na scenie towarzyszył będzie Piotr Makarski.\n\nPremiera spektaklu odbyła się 30 czerwca 2023 r. na Scenie Relax w Warszawie.\n \nSpektakl realizowany pod patronatem honorowym Fundacji Wisławy Szymborskiej.\n \nScenariusz i reżyseria – Katarzyna Jungowska\nWystępują – Grażyna Szapołowska\, Piotr Makarski\nW nagraniu wideo udział wzięła – Natalia Lesz\nMuzyka – Karo Glazer\nReżyser światła – Jacqueline Sobiszewski\nReżyser wizualizacji multimedialnych – Hektor Werios\n\nBilety  https://tiny.pl/dgqh4\n 
URL:https://pokladykultury.eu/event/wislawie-grazyna/
LOCATION:Teatr Nowy w Zabrzu\, Plac Teatralny 1\, Zabrze\, śląskie\, 41-800\, Poland
ATTACH;FMTTYPE=image/jpeg:https://pokladykultury.eu/wp-content/uploads/2024/03/Wislawie-Grazyna.jpg
END:VEVENT
END:VCALENDAR