BEGIN:VCALENDAR
VERSION:2.0
PRODID:-//Pokładykultury.eu - ECPv5.16.3.1//NONSGML v1.0//EN
CALSCALE:GREGORIAN
METHOD:PUBLISH
X-ORIGINAL-URL:https://pokladykultury.eu
X-WR-CALDESC:Wydarzenia dla Pokładykultury.eu
REFRESH-INTERVAL;VALUE=DURATION:PT1H
X-Robots-Tag:noindex
X-PUBLISHED-TTL:PT1H
BEGIN:VTIMEZONE
TZID:Europe/Warsaw
BEGIN:DAYLIGHT
TZOFFSETFROM:+0100
TZOFFSETTO:+0200
TZNAME:CEST
DTSTART:20240331T010000
END:DAYLIGHT
BEGIN:STANDARD
TZOFFSETFROM:+0200
TZOFFSETTO:+0100
TZNAME:CET
DTSTART:20241027T010000
END:STANDARD
END:VTIMEZONE
BEGIN:VEVENT
DTSTART;TZID=Europe/Warsaw:20241005T210000
DTEND;TZID=Europe/Warsaw:20241005T230000
DTSTAMP:20260420T183819
CREATED:20240904T062835Z
LAST-MODIFIED:20240904T062835Z
UID:12640-1728162000-1728169200@pokladykultury.eu
SUMMARY:Wojciech Cejrowski stand up Trudne dzieciństwo w Zabrzu
DESCRIPTION:Dom Muzyki i Tańca w Zabrzu zaprasza na wydarzenie pn. Wojciech Cejrowski w Zabrzu: „Trudne dzieciństwo”.Bilety: KupBilecik.pl i Biletyna.plWięcej informacji: www.cejrowski.com/wystepy\n \nW programie Czeka Państwa wyjątkowe doświadczenie!WojciechCejrowski – mistrz słowa i anegdoty\, zaprasza na swoje najnowsze stand-up show „Trudne dzieciństwo”. Zapowiada się wyjątkowy wieczór\, w którym Cejrowski odsłania karty swojego nietypowego dzieciństwa\, opowiadając historie\, które wywołują burzę śmiechu i łzy wzruszenia.\nSmak życia w anegdotach:\nSzklane oko dziadka: Odkryjcie\, jak szklane oko i sztuczna szczęka dziadka Cejrowskiego stały się częścią rodzinnego folkloru.Bimbrownia dziadka: Zanurzcie się w opowieści o 5-letnim Wojtku\, który pomagał w bimbrowni dziadka i był… testerem trunków!Przygody: Oprócz dziecięcych wspomnień\, Wojciech Cejrowski podzieli się też przeżyciami których Państwo nie znają.Oczekujcie niespodzianek:Oprócz zaplanowanych historii\, mogą Państwo usłyszeć te niezaplanowane. Cejrowski słynie z improwizacji\, więc każde spotkanie jest pełne humoru i nieoczekiwanych zwrotów akcji.\n \nZapraszamy do Zabrza! 
URL:https://pokladykultury.eu/event/wojciech-cejrowski-stand-up-trudne-dziecinstwo-w-zabrzu/
LOCATION:Dom Muzyki i Tańca w Zabrzu\, ul. Gen. de Gaulle'a 17\, Zabrze\, śląskie\, 41-800\, Poland
ATTACH;FMTTYPE=image/jpeg:https://pokladykultury.eu/wp-content/uploads/2024/09/Wojciech-Cejrowski.jpg
END:VEVENT
BEGIN:VEVENT
DTSTART;TZID=Europe/Warsaw:20241028T190000
DTEND;TZID=Europe/Warsaw:20241028T200000
DTSTAMP:20260420T183819
CREATED:20241014T044230Z
LAST-MODIFIED:20241014T044230Z
UID:13265-1730142000-1730145600@pokladykultury.eu
SUMMARY:Kobieta i życie
DESCRIPTION:Zapraszamy na premierę kolejnego projektu Teatru Nieoetykietkowani pn. „Kobieta i życie”.\n \n\nscenariusz na podstawie dramatu Maliny Prześlugi\nreżyseria Małgorzata Baryłachoreografia Oliwer Cieślakświatła Małgorzata i Krzysztof Baryłaruch sceniczny\, kostiumy\, muzyka praca zespołowaprojekt plakatu Amelia Konieczka\n \nobsadaMagdalena BaronMagdalena CebulaOliwer CieślakZofia HojszykKarolina HewlikKalina JóźwiakFranciszek KisielewskiAnna KnapikAmelia KonieczkaAgata LisowskaJakub MajgerAgnieszka UrbańczykDaniel ZiółkowskiAgata Zniewierowska\n \n(…) To nie ja tu stojęto nie ja tu śpiewamto nie jato Ty (…)\n \nZapraszamy serdecznieSpektakl od lat 16Obowiązuje rezerwacja miejsc poprzez stronę internetową lub bezpośrednio u aktorów 
URL:https://pokladykultury.eu/event/kobieta-i-zycie-2/
LOCATION:Scena Kameralna\, Park Hutniczy 11\, Zabrze\, śląskie\, 41-800\, Poland
ATTACH;FMTTYPE=image/jpeg:https://pokladykultury.eu/wp-content/uploads/2024/10/Kobieta-i-zycie-27.10-e1728886646629.jpg
END:VEVENT
END:VCALENDAR