BEGIN:VCALENDAR
VERSION:2.0
PRODID:-//Pokładykultury.eu - ECPv5.16.3.1//NONSGML v1.0//EN
CALSCALE:GREGORIAN
METHOD:PUBLISH
X-WR-CALNAME:Pokładykultury.eu
X-ORIGINAL-URL:https://pokladykultury.eu
X-WR-CALDESC:Wydarzenia dla Pokładykultury.eu
REFRESH-INTERVAL;VALUE=DURATION:PT1H
X-Robots-Tag:noindex
X-PUBLISHED-TTL:PT1H
BEGIN:VTIMEZONE
TZID:Europe/Warsaw
BEGIN:DAYLIGHT
TZOFFSETFROM:+0100
TZOFFSETTO:+0200
TZNAME:CEST
DTSTART:20250330T010000
END:DAYLIGHT
BEGIN:STANDARD
TZOFFSETFROM:+0200
TZOFFSETTO:+0100
TZNAME:CET
DTSTART:20251026T010000
END:STANDARD
END:VTIMEZONE
BEGIN:VEVENT
DTSTART;TZID=Europe/Warsaw:20250517T200000
DTEND;TZID=Europe/Warsaw:20250517T213000
DTSTAMP:20260419T172650
CREATED:20250327T073523Z
LAST-MODIFIED:20250327T073523Z
UID:14558-1747512000-1747517400@pokladykultury.eu
SUMMARY:Krzysztof Hanke – Śmiesznie już było
DESCRIPTION:Krzysztof Hanke… i tu właściwie moglibyśmy zakończyć opis. Bo któż z Państwa nie zna serialowego Bercika\, współzałożyciela kabaretu „RAK”\, a zarazem chyba najbardziej znanego obecnie ambasadora śląskiego poczucia humoru? \nMamy ogromną przyjemność zaprosić na niezwykłe show\, podczas którego śmiech towarzyszył będzie Państwu od samego początku\, aż do ostatniego bisu! Solowy program Krzysztofa Hanke pt. „Śmiesznie już było” to niesamowita dawka endorfin\, w sam raz na majowy wieczór. Usłyszą Państwo dziesiątki anegdot\, opowiadanych z wrodzonym\, śląskim wdziękiem. A momentami również z odrobiną śląskiej ironii.\n\nCzas trwania: ok. 90 min.  \nBilety w cenie 90 zł/os. (miejsca numerowane) dostępne w serwisach: \n– KupBilecik \n– Biletyna \nMiejski Ośrodek Kultury\, Zabrze\, ul. 3 Maja 91a \nOrganizator: Agencja Kreatywna Kamila Kędziora
URL:https://pokladykultury.eu/event/krzysztof-hanke-smiesznie-juz-bylo/
LOCATION:Miejski Ośrodek Kultury w Zabrzu\, ul. 3 Maja 91a\, Zabrze\, śląskie\, 41-800\, Poland
ATTACH;FMTTYPE=image/jpeg:https://pokladykultury.eu/wp-content/uploads/2025/03/hanke_smiesznie-juz-bylo_plakat_rgb-scaled.jpg
END:VEVENT
END:VCALENDAR