BEGIN:VCALENDAR
VERSION:2.0
PRODID:-//Pokładykultury.eu - ECPv5.16.3.1//NONSGML v1.0//EN
CALSCALE:GREGORIAN
METHOD:PUBLISH
X-WR-CALNAME:Pokładykultury.eu
X-ORIGINAL-URL:https://pokladykultury.eu
X-WR-CALDESC:Wydarzenia dla Pokładykultury.eu
REFRESH-INTERVAL;VALUE=DURATION:PT1H
X-Robots-Tag:noindex
X-PUBLISHED-TTL:PT1H
BEGIN:VTIMEZONE
TZID:Europe/Warsaw
BEGIN:DAYLIGHT
TZOFFSETFROM:+0100
TZOFFSETTO:+0200
TZNAME:CEST
DTSTART:20220327T010000
END:DAYLIGHT
BEGIN:STANDARD
TZOFFSETFROM:+0200
TZOFFSETTO:+0100
TZNAME:CET
DTSTART:20221030T010000
END:STANDARD
END:VTIMEZONE
BEGIN:VEVENT
DTSTART;TZID=Europe/Warsaw:20220306T130000
DTEND;TZID=Europe/Warsaw:20220306T160000
DTSTAMP:20260420T100735
CREATED:20220223T100445Z
LAST-MODIFIED:20220223T100445Z
UID:2717-1646571600-1646582400@pokladykultury.eu
SUMMARY:Bieg Tropem Wilczym
DESCRIPTION:Fundacja Dobrzy Ludzie Dzieciom\, Stowarzyszenie Dla Was Warto oraz Info Zabrze zaprasza na Bieg Pamięci Żołnierzy Wyklętych „TROPEM WILCZYM”. Bieg objęła Patronatem Honorowym Pani Małgorzaty Mańki Szulik – Prezydent Miasta Zabrze\n \nPROGRAM UROCZYSTOŚCI:\n• Biuro Zawodów otwarte będzie w dniu 06.03.2022 r. od godziny 10:00\nlokalizacja biura: PARK LEŚNY IM. POWSTAŃCÓW ŚLĄSKICH W ZABRZU\n• Długość tras organizowanych Biegów:\n– dzieci (do 12 lat) – dystans 600m – 25 zł\n– BIEG GŁÓWNY młodzież i dorośli – dystans 1963 m – 35 zł\n– dorośli oraz osoby z kijkami – dystans 6 km – 35 zł\nTrasy biegów będą miały oznaczenia kilometrowe.\nUczestnicy ustawiają się na starcie w wyznaczonych przez Organizatora miejscu. Można wziąć udział tylko w jednym z biegów.\n \nPROGRAM ZAWODÓW w dniu 6 marca 2022 r.\n• godz. 10:00 – Otwarcie biura zawodów\n• godz. 12:00 – Rozpoczęcie wydarzenia oraz start biegu dla najmłodszych\n• godz. 12:30 – Start biegu głównego na dystansie 1963m\n• godz. 13:30 – Start biegu na dystansie 6km\n• godz. 15:00 – 16:00 wręczenie pucharów oraz zakończenie imprezy.
URL:https://pokladykultury.eu/event/bieg-tropem-wilczym/
LOCATION:Park leśny im. Powstańców Śląskiech\, ul. Matejki\, Zabtrze\, śląskie\, 41-800\, Poland
ATTACH;FMTTYPE=image/png:https://pokladykultury.eu/wp-content/uploads/2022/02/Bieg-Tropem-Wilczym.png
END:VEVENT
END:VCALENDAR