BEGIN:VCALENDAR
VERSION:2.0
PRODID:-//Pokładykultury.eu - ECPv5.16.3.1//NONSGML v1.0//EN
CALSCALE:GREGORIAN
METHOD:PUBLISH
X-ORIGINAL-URL:https://pokladykultury.eu
X-WR-CALDESC:Wydarzenia dla Pokładykultury.eu
REFRESH-INTERVAL;VALUE=DURATION:PT1H
X-Robots-Tag:noindex
X-PUBLISHED-TTL:PT1H
BEGIN:VTIMEZONE
TZID:Europe/Warsaw
BEGIN:DAYLIGHT
TZOFFSETFROM:+0100
TZOFFSETTO:+0200
TZNAME:CEST
DTSTART:20220327T010000
END:DAYLIGHT
BEGIN:STANDARD
TZOFFSETFROM:+0200
TZOFFSETTO:+0100
TZNAME:CET
DTSTART:20221030T010000
END:STANDARD
END:VTIMEZONE
BEGIN:VEVENT
DTSTART;TZID=Europe/Warsaw:20220612T130000
DTEND;TZID=Europe/Warsaw:20220612T160000
DTSTAMP:20260423T020029
CREATED:20220608T050905Z
LAST-MODIFIED:20220608T050905Z
UID:3872-1655038800-1655049600@pokladykultury.eu
SUMMARY:Wstaw się za Stawem! - VII EKO-akcja nad stawem
DESCRIPTION:Po dłuższej przerwie wracamy z kolejnym happeningiem ekologicznym w Rokitnicy! \nBędzie się działo! Muzyka\, Strażacy\, rodzinny piknik przy stawie\, animacje\, SPRZĄTANIE.\nDla wszystkich sprzątających … niespodzianka. A jest co sprzątać! \nKiedy: niedziela\, 12.06.22\, godz. 11:00 – 14:00\nStaw w Rokitnicy przy pętli autobusowej. Nie przegapcie! \nSPRZĄTAMY!\nSEGREGUJEMY!\nOCZYSZCZAMY!\nRECYKLINGUJEMY!\nWSTAWIAMY SIĘ ZA STAWEM! \nZależy Ci? PRZYJDŹ! \n \nOrganizator\nStowarzyszenie Kartel Kulturalny \nWspółorganizator\nRada Dzielnicy Rokitnica \nPartnerzy: ZBM TBS Zabrze\, UM Zabrze\, Alba\, Herbaciarnia Czajnik\, Grupa Ratownictwa PCK Zabrze\, Szkolna Grupa Ratownicza\, Ochotnicza Straż Pożarna Wieszowa\, Fundacja Łąki Kwietne.
URL:https://pokladykultury.eu/event/wstaw-sie-za-stawem-vii-eko-akcja-nad-stawem/
LOCATION:Staw w Rokitnicy przy pętli autobusowej\, Zabrze - Rokitnica\, śląskie\, Poland
ATTACH;FMTTYPE=image/jpeg:https://pokladykultury.eu/wp-content/uploads/2022/06/wstawsiezastawem_vol7_2022_fbwydarzenie.jpg
END:VEVENT
END:VCALENDAR