BEGIN:VCALENDAR
VERSION:2.0
PRODID:-//Pokładykultury.eu - ECPv5.16.3.1//NONSGML v1.0//EN
CALSCALE:GREGORIAN
METHOD:PUBLISH
X-ORIGINAL-URL:https://pokladykultury.eu
X-WR-CALDESC:Wydarzenia dla Pokładykultury.eu
REFRESH-INTERVAL;VALUE=DURATION:PT1H
X-Robots-Tag:noindex
X-PUBLISHED-TTL:PT1H
BEGIN:VTIMEZONE
TZID:Europe/Warsaw
BEGIN:DAYLIGHT
TZOFFSETFROM:+0100
TZOFFSETTO:+0200
TZNAME:CEST
DTSTART:20250330T010000
END:DAYLIGHT
BEGIN:STANDARD
TZOFFSETFROM:+0200
TZOFFSETTO:+0100
TZNAME:CET
DTSTART:20251026T010000
END:STANDARD
END:VTIMEZONE
BEGIN:VEVENT
DTSTART;TZID=Europe/Warsaw:20251009T193000
DTEND;TZID=Europe/Warsaw:20251009T213000
DTSTAMP:20260424T013103
CREATED:20250807T045608Z
LAST-MODIFIED:20250807T045608Z
UID:15882-1760038200-1760045400@pokladykultury.eu
SUMMARY:Zabrze! - Mateusz Socha - "Szur"
DESCRIPTION:Zapraszamy na koncerty najnowszego programu stand-up Mateusza Sochy pt. „Szur”!\n \nUWAGA!– Bilety do kupienia tylko na www.kupbilecik.pl– Występ dla osób powyżej 18 roku życia (między 16 a 18 rokiem życia z pisemnym pozwoleniem od rodziców)– Występ może być nagrywany. Zakup biletu równoważny jest ze zgodą na upublicznienie swojego wizerunku.– Nagrywanie występu w formie audio i video jest zabronione– Bilet nie daje prawa do przeszkadzania występującym.– Organizator zastrzega sobie prawo wyproszenia przeszkadzającej osoby\, bez możliwości zwrotu za bilety.– Kupując bilet akceptujesz powyższe uwagi
URL:https://pokladykultury.eu/event/zabrze-mateusz-socha-szur/
LOCATION:Dom Muzyki i Tańca w Zabrzu\, ul. Gen. de Gaulle'a 17\, Zabrze\, śląskie\, 41-800\, Poland
ATTACH;FMTTYPE=image/jpeg:https://pokladykultury.eu/wp-content/uploads/2025/08/Mateusz-Socha.jpg
END:VEVENT
BEGIN:VEVENT
DTSTART;TZID=Europe/Warsaw:20251031T190000
DTEND;TZID=Europe/Warsaw:20251031T203000
DTSTAMP:20260424T013103
CREATED:20251007T101816Z
LAST-MODIFIED:20251007T101816Z
UID:16653-1761937200-1761942600@pokladykultury.eu
SUMMARY:Pojedynek
DESCRIPTION:Miejski Ośrodek Kultury w Zabrzu zaprasza na Pojedynek Stand-up. To impreza\, która się już nigdy nie powtórzy\, 4 komików na scenie i nowe świeże teksty. Każdy daje jeden temat\, na który wszyscy muszą przygotować premierowy materiał stand-up. \nWystąpią:\nRobert Korólczyk (Kabaret Młodych Panów)\nŁukasz Kaczmarczyk (Kabaret Młodych Panów)\nMarcin Zbigniew Wojciech \nBartosz Gajda \nMARCIN ZBIGNIEW WOJCIECH \nWystępował w POLSACIE\, Comedy Central\, oraz TVP2\, pracował w RMF FM. Jest 18 lat na scenie. Ma ponad 38 MLN wyświetleń na Youtube. Ma na swoim koncie ponad 1500 występów. Żywioł sceniczny i znana w całej Polsce dusza towarzystwa. Komik\, aktor\, konferansjer\, stand-up’er. \nŁUKASZ KACZMARCZYK \nKomik\, aktor kabaretowy\, młody stand-uper\, człowiek z brodą\, gadżeciarz\, gracz\, miłośnik klusków śląskich\, filmów na vhs-ach i padów do PlayStation. Jeden z czterech z Kabaretu Młodych Panów. A od niedawna solista\, w swym własnym projekcie stand-upowym. To świadczy o tym\, że uwielbia redukować. Z jednakową brawurą poprowadzi sportowe auto do garażu jak i wieloosobową publiczność do śmiechu. Ma w sobie energię\, błysk oraz słynne „to coś”. \nROBERT KORÓLCZYK️\nLider Kabaretu Młodych Panów\, twórca tekstów kabaretowych od lat bawiący miliony Polaków jako „Góral”\, „Górnik Andrzej” i wiele innych postaci. Jego monologi z dużą dawką ironii i dystansu do otaczającej rzeczywistości podbiły serca widzów! Potrafi naśladować i parodiować. Sprawnie naśladuje gwary\, choć prawdziwie zna tylko gwarę śląską. Mówi w każdym języku\, choć zna tylko jeden. Jego głos jest na tyle charakterystyczny\, iż publiczność często poznaje go nie tylko po twarzy\, ale właśnie po głosie. W trakcie występu przeistacza się z postaci w postać\, pokazując tym samym swój fantastyczny repertuar różnych charakterów. \nBARTOSZ GAJDA \nByły członek Kabaretu Łowcy.B. Niestandardowy stand-uper. Wzięty prezenter\, spiker radiowy\,\nstwór estradowy. Obecnie prowadzi program “Dzień Dobry Bardzo” w Radio Zet. Na antenie często się wciela w różne postaci – był już szkockim naukowcem\, Jęczącą Babą czy kolesiem od fotowoltaiki. \nBilety w cenie 75-95 zł/os. dostępne w serwisie KupBilecik. \nUWAGI:  \n\nNie trzeba drukować biletu\nWydarzenie dla dorosłych!\nZakaz nagrywania wydarzenia!\nOsoby przeszkadzające mogą zostać wyproszone bez możliwości zwrotu biletu\n\n  \nMiejski Ośrodek Kultury w Zabrzu\, ul. 3 Maja 91a \nOrganizator: Sundo Marcin Wojciech
URL:https://pokladykultury.eu/event/pojedynek/
LOCATION:Miejski Ośrodek Kultury w Zabrzu\, ul. 3 Maja 91a\, Zabrze\, śląskie\, 41-800\, Poland
ATTACH;FMTTYPE=image/jpeg:https://pokladykultury.eu/wp-content/uploads/2025/10/Pojedynek-stand-up-sezon-2-1200-x-628-px.jpg
END:VEVENT
END:VCALENDAR