BEGIN:VCALENDAR
VERSION:2.0
PRODID:-//Pokładykultury.eu - ECPv5.16.3.1//NONSGML v1.0//EN
CALSCALE:GREGORIAN
METHOD:PUBLISH
X-ORIGINAL-URL:https://pokladykultury.eu
X-WR-CALDESC:Wydarzenia dla Pokładykultury.eu
REFRESH-INTERVAL;VALUE=DURATION:PT1H
X-Robots-Tag:noindex
X-PUBLISHED-TTL:PT1H
BEGIN:VTIMEZONE
TZID:Europe/Warsaw
BEGIN:DAYLIGHT
TZOFFSETFROM:+0100
TZOFFSETTO:+0200
TZNAME:CEST
DTSTART:20210328T010000
END:DAYLIGHT
BEGIN:STANDARD
TZOFFSETFROM:+0200
TZOFFSETTO:+0100
TZNAME:CET
DTSTART:20211031T010000
END:STANDARD
END:VTIMEZONE
BEGIN:VEVENT
DTSTART;TZID=Europe/Warsaw:20211203T190000
DTEND;TZID=Europe/Warsaw:20211205T200000
DTSTAMP:20260419T190931
CREATED:20211013T093433Z
LAST-MODIFIED:20211209T120518Z
UID:1475-1638558000-1638734400@pokladykultury.eu
SUMMARY:BarbórkoweLOVE - Jarmark barbórkowy
DESCRIPTION:Inny niż znane Wam i odwiedzane do tej pory grudniowe jarmarki… W industrialnej przestrzeni strefy Carnall przenieście się wspólnie z nami w świat górniczych tradycji i zimowego klimatu!\n \nBarbórkowelove – jarmark\, na którym nie może Was zabraknąć!\n \nZapraszamy do obserwacji wydarzenia\, poznajcie naszych wystawców\, dowiedzcie się co przygotowaliśmy specjalnie dla Was i o co w tym wszystkim chodzi.
URL:https://pokladykultury.eu/event/barborkowelove-jarmark-barborkowy/
LOCATION:Strefa Carnall\, Sztolnia Królowa Luiza\, ul. Wolności 408\, Zabrze\, śląskie\, 41-800\, Poland
ATTACH;FMTTYPE=image/jpeg:https://pokladykultury.eu/wp-content/uploads/2021/10/Jarmark.jpg
END:VEVENT
BEGIN:VEVENT
DTSTART;TZID=Europe/Warsaw:20211217T190000
DTEND;TZID=Europe/Warsaw:20211217T210000
DTSTAMP:20260419T190931
CREATED:20211124T113005Z
LAST-MODIFIED:20211124T113005Z
UID:1862-1639767600-1639774800@pokladykultury.eu
SUMMARY:Koncert Świąteczny
DESCRIPTION:Filharmonia Zabrzańska zaprasza w piątek\, 17 grudnia 2021 r. o godz. 18.00 na Koncert Świąteczny. \nWystąpią:\nOrkiestra Symfoniczna Filharmonii Zabrzańskiej\nSylwia Ziółkowska\, Stanisław Napierała – soliści\nSławomir Chrzanowski – dyrygent \nW repertuarze:\nMuzyka świąteczna\, piosenki\, kolędy
URL:https://pokladykultury.eu/event/koncert-swiateczny/
LOCATION:Filharmonia Zabrzańska\, Park Hutniczy 7\, Zabrze\, śląskie\, 41-800\, Poland
ATTACH;FMTTYPE=image/jpeg:https://pokladykultury.eu/wp-content/uploads/2021/07/Filharmonia.jpg
END:VEVENT
BEGIN:VEVENT
DTSTART;TZID=Europe/Warsaw:20211224T010000
DTEND;TZID=Europe/Warsaw:20211225T020000
DTSTAMP:20260419T190931
CREATED:20211220T112317Z
LAST-MODIFIED:20211220T112317Z
UID:2176-1640307600-1640397600@pokladykultury.eu
SUMMARY:Pasterka w Kopalni Guido
DESCRIPTION:24 grudnia w samym sercu poziomu 170 poświęconego świętej Barbarze\, tj. w kaplicy św. Barbary odprawiona zostanie uroczysta Pasterka\, na którą serdecznie zapraszamy. Odprawi ją ksiądz prałat Stanisław Puchała\, kapelan kaplicy. \nWyjątkowe położenie kaplicy i panujący w niej klimat zapewne sprawią\, że tak przeżyta Pasterka na długo pozostanie w naszej pamięci\, a święta Bożego Narodzenia będą jeszcze bardziej niezwykłe. \nKiedy: piątek\, 24 grudnia 2021 r.\nGodz.: 24.00\nGdzie: poziom 170 metrów\, kaplica świętej Barbary\, Kopalnia Guido\, ul. 3 Maja 93\, Zabrze \nZjazdy pod ziemię od godziny 23.00. \n  \nUwaga! Ze względu na ograniczoną liczbę miejsc prosimy o rezerwację przybycia pod nr. tel. 32 271 40 77. \nREGULAMIN WYDARZENIA
URL:https://pokladykultury.eu/event/pasterka-w-kopalni-guido/
LOCATION:Kopalnia Guido\, ul. 3 Maja 93\, Zabrze\, śląskie\, 41-800\, Poland
ATTACH;FMTTYPE=image/jpeg:https://pokladykultury.eu/wp-content/uploads/2021/12/koledowanie_guido_06_01_2016_36.jpg
END:VEVENT
END:VCALENDAR