BEGIN:VCALENDAR
VERSION:2.0
PRODID:-//Pokładykultury.eu - ECPv5.16.3.1//NONSGML v1.0//EN
CALSCALE:GREGORIAN
METHOD:PUBLISH
X-ORIGINAL-URL:https://pokladykultury.eu
X-WR-CALDESC:Wydarzenia dla Pokładykultury.eu
REFRESH-INTERVAL;VALUE=DURATION:PT1H
X-Robots-Tag:noindex
X-PUBLISHED-TTL:PT1H
BEGIN:VTIMEZONE
TZID:Europe/Warsaw
BEGIN:DAYLIGHT
TZOFFSETFROM:+0100
TZOFFSETTO:+0200
TZNAME:CEST
DTSTART:20250330T010000
END:DAYLIGHT
BEGIN:STANDARD
TZOFFSETFROM:+0200
TZOFFSETTO:+0100
TZNAME:CET
DTSTART:20251026T010000
END:STANDARD
END:VTIMEZONE
BEGIN:VEVENT
DTSTART;TZID=Europe/Warsaw:20251206T130000
DTEND;TZID=Europe/Warsaw:20251206T170000
DTSTAMP:20260423T100349
CREATED:20251118T104422Z
LAST-MODIFIED:20251118T104422Z
UID:17146-1765026000-1765040400@pokladykultury.eu
SUMMARY:Świąteczna Kraina Mikołaja
DESCRIPTION:6 grudnia 2025 r. hala „Pogoń” przy ul. Wolności 406 zamieni się w Świąteczną Krainę Mikołaja – miejsce pełne atrakcji\, zabaw i świątecznej atmosfery dla całych rodzin. \nWydarzenie odbędzie się w godz. 12.00–16.00 i obejmie spotkanie ze Świętym Mikołajem\, wręczanie prezentów oraz animacje i konkursy dla dzieci. \nW programie przewidziano m.in.: \n\nspotkanie ze Świętym Mikołajem\,\nświąteczne zabawy\, konkursy i animacje\,\natrakcje przygotowane z myślą o najmłodszych.\n\nLiczba miejsc jest ograniczona. Zapisy prowadzone są telefonicznie w Punkcie Informacji o Mieście Zabrze pod numerem 32 37 33 520\, w godz. 9.30–16.30. Rejestracja trwa od 17 listopada do 1 grudnia 2025 r. lub do wyczerpania miejsc. \nOrganizatorami wydarzenia są: Miasto Zabrze oraz Fundacja Piastun Wyrównywanie Szans. Współorganizatorzy: MOSiR Zabrze i Miejski Ośrodek Kultury w Zabrzu. Sponsorem wydarzenia jest Dom100.eu Nowe Domy i Mieszkania.
URL:https://pokladykultury.eu/event/swiateczna-kraina-mikolaja-2/
LOCATION:Hala Sportowa „Pogoń”\, ul. Wolności 308\, Zabrze\, śląskie\, 41-800\, Poland
ATTACH;FMTTYPE=image/png:https://pokladykultury.eu/wp-content/uploads/2025/11/Kraina-sw.-Mikolaja_m.png
END:VEVENT
BEGIN:VEVENT
DTSTART;TZID=Europe/Warsaw:20251206T170000
DTEND;TZID=Europe/Warsaw:20251206T210000
DTSTAMP:20260423T100349
CREATED:20251118T071150Z
LAST-MODIFIED:20251118T071150Z
UID:17139-1765040400-1765054800@pokladykultury.eu
SUMMARY:III Kończycki Jarmark Adwentowy
DESCRIPTION:Zapraszamy na III Kończycki Jarmark Adwentowy.\n\n \n 6 grudnia 2025\n Park im. kard. Hlonda\n\n\n \nProgram wydarzenia:\n16:00 – Rozpoczęcie\n17:00 – Spotkanie ze Św. Mikołajem \n17:45 – Koncert Orkiestry Dętej „Sośnicowice” \n20:00 – Zakończenie\n\n\n \nImprezę poprowadzi Dj Witek\n\n\nNa miejscu dostępne będą stoiska gastronomiczne\, rękodzieło\, stroiki świąteczne\, zabawki\, słodycze i inne atrakcje. \n\n\nOrganizatorzy:\nRada Dzielnicy Kończyce | Parafia Bożego Ciała w Zabrzu-Kończycach | DOK Kończyce | Miejski Ośrodek Kultury w Zabrzu | ROD Wiśnia w Zabrzu | OSP Kończyce
URL:https://pokladykultury.eu/event/iii-konczycki-jarmark-adwentowy/
LOCATION:Park im. kard. A. Hlonda\, ul. Miła\, Zabrze\, śląskie\, Poland
ATTACH;FMTTYPE=image/jpeg:https://pokladykultury.eu/wp-content/uploads/2025/11/Konczycki-Jarmark.jpg
END:VEVENT
BEGIN:VEVENT
DTSTART;TZID=Europe/Warsaw:20251212T170000
DTEND;TZID=Europe/Warsaw:20251212T200000
DTSTAMP:20260423T100349
CREATED:20251104T090949Z
LAST-MODIFIED:20251104T090949Z
UID:16983-1765558800-1765569600@pokladykultury.eu
SUMMARY:IV Zandkowy Jarmark Adwentowy
DESCRIPTION:12 grudnia 2025 r. na Zandce ponownie pojawi się świąteczna atmosfera pełna światła\, uśmiechów i adwentowego klimatu. To już czwarte spotkanie mieszkańców dzielnicy\, rodzin i sympatyków Zandki.\n\n\n \n Data: 12 grudnia 2025 (piątek)\n Godziny: 16:00 – 19:00\n Miejsce: teren przed Centrum Usług Społecznych w Zabrzu – ZANDKA\, ul. Pawła Stalmacha 7\n\n\n \nPodczas wydarzenia przewidziano:\n\nwystępy artystyczne\nwarsztaty kreatywne dla dzieci i dorosłych\nkącik fotograficzny przy choince\n„Pokój Mikołaja” – specjalna strefa dla najmłodszych\nstoiska z rękodziełem\, prezentami i świątecznymi przysmakami\nciepłe napoje i słodkości\n\n\n\n„Adwentowe Ciepło Zandki” to okazja\, aby poczuć magię zbliżających się Świąt\, spotkać się z innymi mieszkańcami oraz spędzić czas w rodzinnej atmosferze.\n\n\n \nWydarzenie jest otwarte dla wszystkich.
URL:https://pokladykultury.eu/event/iv-zandkowy-jarmark-adwentowy/
LOCATION:Zandka\, Zabrze\, śląskie\, 41-800\, Poland
ATTACH;FMTTYPE=image/jpeg:https://pokladykultury.eu/wp-content/uploads/2025/11/Adwentowy-jarmark-na-Zandce.jpg
END:VEVENT
BEGIN:VEVENT
DTSTART;TZID=Europe/Warsaw:20251212T173000
DTEND;TZID=Europe/Warsaw:20251212T200000
DTSTAMP:20260423T100349
CREATED:20251211T094054Z
LAST-MODIFIED:20251211T094054Z
UID:17357-1765560600-1765569600@pokladykultury.eu
SUMMARY:Świąteczny Jarmark Rozmaitości
DESCRIPTION:Nadszedł grudzień\, a wraz z nim czas świątecznych przygotowań. Szkoła Podstawowa nr 31 w Zabrzu zaprasza na Świąteczny Jarmark Rozmaitości\, który odbędzie się\n w piątek 12 grudnia\n o godzinie 16:30.\n\nZapraszamy!
URL:https://pokladykultury.eu/event/swiateczny-jarmark-rozmaitosci/
LOCATION:Szkoła Podstawowa nr 31\, ul. dr. H. Jordana 7\, Zabrze\, śląskie\, Poland
ATTACH;FMTTYPE=image/jpeg:https://pokladykultury.eu/wp-content/uploads/2025/12/Swiateczny-Jarmark-Rozmaitosci.jpg
END:VEVENT
BEGIN:VEVENT
DTSTART;TZID=Europe/Warsaw:20251212T180000
DTEND;TZID=Europe/Warsaw:20251212T200000
DTSTAMP:20260423T100349
CREATED:20251210T091259Z
LAST-MODIFIED:20251210T091326Z
UID:17315-1765562400-1765569600@pokladykultury.eu
SUMMARY:Latarenki witrażowe
DESCRIPTION:Zapraszamy na Spotkania Kreatywne dla Młodych!\n \nJuż w najbliższy piątek o godzinie 17:00 dzięki Centrum Sprawiedliwej Transformacji w Zabrzu stworzymy wspólnie Latarenki.\n\n \nObowiązują zapisy: kontakt.centrumzabrze@gmail.com\nWarsztaty dla dzieci powyżej 15 roku życia. 
URL:https://pokladykultury.eu/event/latarenki-witrazowe/
LOCATION:Dzielnicowy Ośrodek Kultury Biskupice\, ul. W. Kossaka 23\, Zabrze\, śląskie\, 41-800\, Poland
ATTACH;FMTTYPE=image/jpeg:https://pokladykultury.eu/wp-content/uploads/2025/12/Latarenki-witrazowe.jpg
END:VEVENT
BEGIN:VEVENT
DTSTART;TZID=Europe/Warsaw:20251213T160000
DTEND;TZID=Europe/Warsaw:20251213T190000
DTSTAMP:20260423T100349
CREATED:20251207T154151Z
LAST-MODIFIED:20251207T154151Z
UID:17251-1765641600-1765652400@pokladykultury.eu
SUMMARY:XVI Jarmark Adwentowy
DESCRIPTION:W sobotę\, 13 grudnia br. o godz. 15:00 Dziedziniec Kultury i Pokoju przy Młodzieżowym Domu Kultury nr 2 zamieni się w przedświąteczne miasteczko. W programie znajdą się występy dzieci i młodzieży\, stoiska z ręcznie wykonanymi upominkami\, coś dobrego do zjedzenia oraz gorąca czekolada. Organizatorzy przygotowali także świąteczną niespodziankę.\n\n\n\n Jarmark jest otwarty także dla wystawców i artystów\, którzy chcieliby zaprezentować się „pod chmurką”. Zapraszamy całe rodziny oraz wszystkich\, którzy chcą spędzić grudniowe popołudnie w miłej atmosferze.
URL:https://pokladykultury.eu/event/xvi-jarmark-adwentowy/
LOCATION:Młodzieżowy Dom Kultury nr 2\, ul. 3 Maja 12\, Zabrze\, śląskie\, 41-800\, Poland
ATTACH;FMTTYPE=image/jpeg:https://pokladykultury.eu/wp-content/uploads/2025/12/Jarmark-adwentowy.jpg
END:VEVENT
BEGIN:VEVENT
DTSTART;TZID=Europe/Warsaw:20251213T170000
DTEND;TZID=Europe/Warsaw:20251213T210000
DTSTAMP:20260423T100349
CREATED:20251210T090930Z
LAST-MODIFIED:20251210T090930Z
UID:17312-1765645200-1765659600@pokladykultury.eu
SUMMARY:Pawłowski Jarmark adwentowy
DESCRIPTION:Nie może Was zabraknąć. \nDzielnicowy Ośrodek Kultury w Pawłowie zaprasza na XIV Pawłowski Jarmark adwentowy.Start o godzinie 16:00. \nZabierzcie dobre humory\, ciepłe rękawiczki i widzimy się w parku przy DOKu.
URL:https://pokladykultury.eu/event/pawlowski-jarmark-adwentowy-3/
LOCATION:Dzielnicowy Ośrodek Kultury Pawłów\, ul. Sikorskiego 114\, Zabrze\, śląskie\, 41-800\, Poland
ATTACH;FMTTYPE=image/jpeg:https://pokladykultury.eu/wp-content/uploads/2025/12/Pawlowski-Jarmark-Adwentowy.jpg
END:VEVENT
BEGIN:VEVENT
DTSTART;TZID=Europe/Warsaw:20251214T120000
DTEND;TZID=Europe/Warsaw:20251214T210000
DTSTAMP:20260423T100349
CREATED:20251212T081142Z
LAST-MODIFIED:20251212T081142Z
UID:17397-1765713600-1765746000@pokladykultury.eu
SUMMARY:III Jarmark Adwentowy
DESCRIPTION:Już 14 grudnia 2025 r. w godz. 11:00-20:00 Ochotnicza Straż Pożarna Grzybowice serdecznie zaprasza wszystkich mieszkańców z rodzinami\, przyjaciółmi\, znajomymi na tradycyjny Jarmark Adwentowy w III niedzielę adwentu.\n\n\nCzeka na Was wyjątkowa\, przedświąteczna atmosfera wspólnego świętowania.\n\n \nW programie:\n\n\n Pyszne domowe wypieki – pierniki\, ciasteczka\, ciasta\n Gorące napoje – kawa\, herbata\, czekolada i wiele innych\n Smaczne gorące jedzenie – kiełbaska\, bigos i inne pyszności\n Koncert orkiestry dętej\, który wprowadzi nas w adwentowy klimat\n Wspólne spotkanie przy ognisku\n\n\n \nTo doskonała okazja\, by zatrzymać się na chwilę\, napić się kawy\, zjeść coś słodkiego i spędzić miło i spokojnie czas.\n\n\nW tym roku środki z jarmarku przeznaczymy na organizację obchodów 100-lecia naszej jednostki OSP. To dla nas wyjątkowo ważny cel. Chcemy wspólnie z Wami – mieszkańcami – godnie uczcić ten piękny jubileusz.
URL:https://pokladykultury.eu/event/iii-jarmark-adwentowy/
LOCATION:Remiza OSP Grzybowice\, ul. Warmińska 1\, Zabrze\, śląskie\, Poland
ATTACH;FMTTYPE=image/jpeg:https://pokladykultury.eu/wp-content/uploads/2025/12/Jarmark-Adwentowy-w-OSP.jpg
END:VEVENT
BEGIN:VEVENT
DTSTART;TZID=Europe/Warsaw:20251214T163000
DTEND;TZID=Europe/Warsaw:20251214T193000
DTSTAMP:20260423T100349
CREATED:20251211T100535Z
LAST-MODIFIED:20251211T100734Z
UID:17376-1765729800-1765740600@pokladykultury.eu
SUMMARY:Jarmark Świąteczny w Zaborzu
DESCRIPTION:Już w niedzielę – 14 grudnia – odbędzie się Jarmark Świąteczny przy budynku MKS Zaborze Zabrze  ul. Wyciska 5a! \n\n\nStart o 15:30!\n\n\n\nOrganizatorzy zapraszają wszystkich mieszkańców Zaborza i okolic na wyjątkowe oraz pełne magii wydarzenie.\n\n\n \nCo na Was czeka?\n• Spotkanie z Mikołajem i Aniołkami\, idealne dla najmłodszych\n• Stoiska ze sprzedażą prowadzoną przez zawodników młodszych drużyn MKS Zaborze\n• Pyszna gorąca czekolada\, grzańce i inne smakołyki od Pubu 3 Kolory\n• Pieczenie kiełbasek i tradycyjna pajda ze smalcem\n• Foodtrucki z ciepłym jedzeniem\n• Wspólne kolędowanie
URL:https://pokladykultury.eu/event/17376/
LOCATION:MKS Zaborze\, ul. Wyciska 5\, Zabrze\, śląskie\, Poland
ATTACH;FMTTYPE=image/jpeg:https://pokladykultury.eu/wp-content/uploads/2025/12/Jarmark-swiateczny-na-Zaborzu.jpg
END:VEVENT
BEGIN:VEVENT
DTSTART;TZID=Europe/Warsaw:20251214T190000
DTEND;TZID=Europe/Warsaw:20251214T203000
DTSTAMP:20260423T100349
CREATED:20251211T094657Z
LAST-MODIFIED:20251211T094657Z
UID:17361-1765738800-1765744200@pokladykultury.eu
SUMMARY:"Światło w sercu" - Świąteczny Koncert Relaksacyjny w Zabrzańskim Gościńcu
DESCRIPTION:W najpiękniejszym czasie roku zapraszamy na wyjątkową\, pełną ciepła podróż dźwiękową. W blasku świec i delikatnym zapachu choinki pozwól\, by misy kryształowe\, gongi i kamertony otuliły Cię jak najcieplejszy koc.\n \nTo nie jest zwykły koncert. To 75 minut głębokiego relaksu\, w którym: stres i pośpiech przedświąteczny\, rozpływają się w harmonijnych wibracjachserce otwiera się na spokój\, wdzięczność i prawdziwą radość Świątciało i dusza ładują się magiczną energią miłości i światła\n \nLeżąc wygodnie na matach\, otulony/a kocem\, pozwolisz\, by dźwięki poprowadziły Cię w najpiękniejsze miejsce – do Twojego własnego wnętrza. Do miejsca\, w którym Święta naprawdę się zaczynają.\nNie musisz nic robić. Wystarczy\, że przyjdziesz\, zamkniesz oczy i pozwolisz sobie… po prostu być.\nZabrzański Gościniec – klimatyczna sala\, pachnąca świątecznymi przyprawami – stworzy idealną\, magiczną przestrzeń.\n \nIlość miejsc bardzo ograniczona\nHonorarium: 70 zł\nRezerwacja: wiadomość prywatna 509 220 444\n \nPrzynieś ze sobą tylko otwartość i kocyk\, MATĘ a My zadbamy o resztę.\nTo będzie najpiękniejszy prezent\, jaki możesz sobie podarować przed Świętami – 75 minut czystego spokoju i miłości.
URL:https://pokladykultury.eu/event/swiatlo-w-sercu-swiateczny-koncert-relaksacyjny-w-zabrzanskim-goscincu/
LOCATION:Zabrzański Gościniec\, Aleja Bohaterów Monte Cassino 9 9\, Zabrze\, śląskie\, 41-800\, Poland
ATTACH;FMTTYPE=image/jpeg:https://pokladykultury.eu/wp-content/uploads/2025/12/Swiatlo-w-sercu.jpg
END:VEVENT
BEGIN:VEVENT
DTSTART;TZID=Europe/Warsaw:20251218T180000
DTEND;TZID=Europe/Warsaw:20251218T200000
DTSTAMP:20260423T100349
CREATED:20251217T092239Z
LAST-MODIFIED:20251217T092239Z
UID:17476-1766080800-1766088000@pokladykultury.eu
SUMMARY:Święta w rytmie EKO
DESCRIPTION:Centrum Sprawiedliwej Transformacji w Zabrzu zaprasza do DOK Kończyce na ostatnie w tym roku zajęcia!\n\n\n grudnia\, godz. 14.00\n ZAPARZ SOBIE SPOKÓJ \nPodczas spotkania będziemy tworzyć herbaciane bombki\, by w czasie przedświątecznym znaleźć również czas na chwilę spokoju z filiżanką herbaty.\n\n\n—————————————————————-\n\n\n grudnia\, godz. 17.00\n ŚWIĘTA W RYTMIE EKO\nPodczas zajęć będziemy wykonywać świąteczne ekostroiki.\n\n\nObowiązują zapisy:\n SMS – 733 086 620\n e-mail: kontakt.centrumzabrze@gmail.com\n\n\n \nWarsztaty są bezpłatne\, dedykowane OSOBOM DOROSŁYM oraz MŁODZIEŻY od 15 roku życia\, mieszkającym\, pracującym lub uczącym się w Zabrzu.\n\n\nOrganizator zapewnia niezbędne materiały i poczęstunek.\n \n\n\nProjekt „Centrum Sprawiedliwej Transformacji w Zabrzu” FESL.10.24-IZ.01-05GH/23 realizowany w ramach Fundusze Europejskie dla Śląskiego 2021-2027 (Fundusz na rzecz Sprawiedliwej Transformacji) dla Priorytetu: FESL.10.00 – Fundusze Europejskie na transformację dla Działania: FESL.10.24 – Włączenie społeczne – wzmocnienie procesu sprawiedliwej transformacji.
URL:https://pokladykultury.eu/event/swieta-w-rytmie-eko/
LOCATION:Dzielnicowy Ośrodek Kultury Kończyce\, ul. Dorotki 3\, Zabrze\, śląskie\, 41-800\, Poland
ATTACH;FMTTYPE=image/jpeg:https://pokladykultury.eu/wp-content/uploads/2025/12/Swieta-w-rytmie-eko.jpg
END:VEVENT
BEGIN:VEVENT
DTSTART;TZID=Europe/Warsaw:20251219T180000
DTEND;TZID=Europe/Warsaw:20251219T200000
DTSTAMP:20260423T100349
CREATED:20251211T095445Z
LAST-MODIFIED:20251211T095445Z
UID:17367-1766167200-1766174400@pokladykultury.eu
SUMMARY:Trzecia Zabrzańska Wigilia dla Osób z Niepełnosprawnością
DESCRIPTION:19-go grudnia o godz. 17:00 w Szkole Podstawowej nr 26 im. Rodła w Zabrzu odbędzie się już trzecia\, Zabrzańska Wigilia Dla Osób z Niepełnosprawnością.\n \n\n\nBędą jasełka\, prezenty\, mnóstwo wigilijnych potraw\, życzenia opłatkowe\, a w tym roku swoją obecnością zaszczycą również gwiazdy Radio Silesia\, Pan Darek Nowicki oraz Pani Teresa Walerjańska\, z którymi odbędzie się wspólne kolędowanie.\n \n\n\nWydarzenie organizowane jest pod patronatem honorowym Kamil Żbikowski – Prezydent Miasta Zabrze.\n\n\nGłównymi organizatorami tego wydarzenia są Ariel Rolnik i jego Stowarzyszenie MocnoSpołeczni\, grono pedagogiczne i cała społeczność @Szkoła Podstawowa nr 26 im. Rodła w Zabrzu\, KKN Górnik Zabrze oraz Lepsze Zabrze\, a patronat medialny objął Portal Nasze Mikulczyce.\n \n\n\nSerdeczne zaproszenie dla wszystkich zainteresowanych!
URL:https://pokladykultury.eu/event/trzecia-zabrzanska-wigilia-dla-osob-z-niepelnosprawnoscia/
LOCATION:Szkoła Podstawowa nr 26 im. Rodła\, ul. St. Ogórka 9\, Zabrze\, śląskie\, 41-818\, Poland
ATTACH;FMTTYPE=image/jpeg:https://pokladykultury.eu/wp-content/uploads/2025/12/Wigilia-dla-osob-z-niepelnosprawnoscia.jpg
END:VEVENT
BEGIN:VEVENT
DTSTART;TZID=Europe/Warsaw:20251221T110000
DTEND;TZID=Europe/Warsaw:20251221T210000
DTSTAMP:20260423T100349
CREATED:20251217T090622Z
LAST-MODIFIED:20251217T090622Z
UID:17467-1766314800-1766350800@pokladykultury.eu
SUMMARY:Jarmark Kopernikowski
DESCRIPTION:Rada Dzielnicy Osiedle Mikołaja Kopernika zaprasza wszystkich mieszkańców na JARMARK KOPERNIKOWSKI.\n\n\n \n Niedziela\, 21 grudnia 2025 r.\n 10:00–20:00\n płyta naprzeciwko basenu Aquarius\n\n\n \nW programie przewidziano liczne atrakcje\, w tym lokalnych wystawców\, strefę gastronomiczną\, konkursy z nagrodami\, świąteczne stoiska\, wspólne kolędowanie oraz sąsiedzkie ubieranie choinki.\n\n\nDla dzieci zaplanowano malowanie twarzy\, brokatowe tatuaże\, plecenie warkoczyków oraz euro-bungee.\n\n\n \nProgram sceniczny:\n koncert Orkiestry Muzeum Górnictwa Węglowego\n pokaz mażoretek Carnall Zabrze\n pokaz breakdance\n zumba w plenerze\n puszczanie lampionów szczęścia na zakończenie
URL:https://pokladykultury.eu/event/jarmark-kopernikowski/
LOCATION:Park im. Jana Pawła II\, al. Korfantego 18\, Zabrze\, śląskie\, 41-800\, Poland
ATTACH;FMTTYPE=image/jpeg:https://pokladykultury.eu/wp-content/uploads/2025/12/Jarmark-kopernikowski.jpg
END:VEVENT
BEGIN:VEVENT
DTSTART;TZID=Europe/Warsaw:20251227T170000
DTEND;TZID=Europe/Warsaw:20251227T181500
DTSTAMP:20260423T100349
CREATED:20251217T093301Z
LAST-MODIFIED:20251217T093301Z
UID:17481-1766854800-1766859300@pokladykultury.eu
SUMMARY:Świąteczny koncert chóru Resonans con tutti
DESCRIPTION:Zapraszamy Państwa na koncert kolędowy w dniu 27 grudnia o godz.16:00 w Kościele św. Wawrzyńca w Zabrzu Mikulczycach. Wydarzenie będzie doskonałą okazją do poświątecznego odpoczynku\, relaksu ale i refleksji. Organizatorem naszego koncertu jest Rada Dzielnicy Mikulczyce -serdecznie dziękujemy za zaproszenie 
URL:https://pokladykultury.eu/event/swiateczny-koncert-choru-resonans-con-tutti/
LOCATION:Kościół pw. św. Wawrzyńca\, ul. Mariacka 1\, Zabrze\, śląskie\, 41-807\, Poland
ATTACH;FMTTYPE=image/jpeg:https://pokladykultury.eu/wp-content/uploads/2025/12/Koncert-u-Wawrzynca.jpg
END:VEVENT
END:VCALENDAR