BEGIN:VCALENDAR
VERSION:2.0
PRODID:-//Pokładykultury.eu - ECPv5.16.3.1//NONSGML v1.0//EN
CALSCALE:GREGORIAN
METHOD:PUBLISH
X-WR-CALNAME:Pokładykultury.eu
X-ORIGINAL-URL:https://pokladykultury.eu
X-WR-CALDESC:Wydarzenia dla Pokładykultury.eu
REFRESH-INTERVAL;VALUE=DURATION:PT1H
X-Robots-Tag:noindex
X-PUBLISHED-TTL:PT1H
BEGIN:VTIMEZONE
TZID:Europe/Warsaw
BEGIN:DAYLIGHT
TZOFFSETFROM:+0100
TZOFFSETTO:+0200
TZNAME:CEST
DTSTART:20220327T010000
END:DAYLIGHT
BEGIN:STANDARD
TZOFFSETFROM:+0200
TZOFFSETTO:+0100
TZNAME:CET
DTSTART:20221030T010000
END:STANDARD
END:VTIMEZONE
BEGIN:VEVENT
DTSTART;TZID=Europe/Warsaw:20220106T154500
DTEND;TZID=Europe/Warsaw:20220106T180000
DTSTAMP:20260420T011350
CREATED:20220103T094346Z
LAST-MODIFIED:20220105T090121Z
UID:2262-1641483900-1641492000@pokladykultury.eu
SUMMARY:Orszak Trzech Króli
DESCRIPTION:Tradycyjnie 6 stycznia zapraszamy do wzięcia udziału w Orszaku Trzech Króli\, który przejdzie ulicami Zabrza. \nOrszak Trzech Króli w tym roku odbędzie się w formie orszaku samochodowego. Podobnie jak w ubiegłych latach\, będzie podzielony na trzy strumienie\, które równocześnie wyruszą z trzech różnych miejsc (początek o godz. 14:45)\, aby spotkać się pod krzyżem papieskim przy parafii św. Wojciecha w Zabrzu. \nOrszak rozpocznie się o godz. 14.45 z trzech różnych miejsc jednocześnie do jednego punktu docelowego: \npierwsza grupa czerwona: z parkingu przy M1\, a następnie ulicami Mielżyńskiego\, Srebrną\, Kondratowicza\, Wolności\, Trocera\, Tkocza\, Franciszkańską\, Gdańską\, Korfantego pod krzyż papieski; \ndruga grupa żółta: z ulicy Królowej Luizy przez plac Sierakowskiej\, ulicami Skargi\, Pszczyńską\, Sikorskiego\, 3 Maja\, Goethego\, De Gaulle’a\, Korfantego pod krzyż papieski; \ntrzecia grupa niebieska: z ulicy Goduli\, ulicami Ofiar Katynia\, Brygadzistów\, Tarnopolską\, Zwycięstwa\, Ligonia\, 11 Listopada\, Nowodworską\, Korfantego\, Heweliusza pod krzyż papieski. \nOrganizatorzy proszą o udekorowanie samochodów kolorami\, zgodnie z kolorem przewidzianym dla danego strumienia. \nRadio Silesia 96\,2 FM poprowadzi relację na żywo\, dzięki czemu nie będzie zachodziła potrzeba wysiadania z samochodu
URL:https://pokladykultury.eu/event/orszak-trzech-kroli/
LOCATION:Zabrze\, Zabrze\, śląskie\, 41-800\, Poland
ATTACH;FMTTYPE=image/jpeg:https://pokladykultury.eu/wp-content/uploads/2022/01/orszak-logo-285761.jpg
END:VEVENT
END:VCALENDAR