BEGIN:VCALENDAR
VERSION:2.0
PRODID:-//Pokładykultury.eu - ECPv5.16.3.1//NONSGML v1.0//EN
CALSCALE:GREGORIAN
METHOD:PUBLISH
X-WR-CALNAME:Pokładykultury.eu
X-ORIGINAL-URL:https://pokladykultury.eu
X-WR-CALDESC:Wydarzenia dla Pokładykultury.eu
REFRESH-INTERVAL;VALUE=DURATION:PT1H
X-Robots-Tag:noindex
X-PUBLISHED-TTL:PT1H
BEGIN:VTIMEZONE
TZID:Europe/Warsaw
BEGIN:DAYLIGHT
TZOFFSETFROM:+0100
TZOFFSETTO:+0200
TZNAME:CEST
DTSTART:20250330T010000
END:DAYLIGHT
BEGIN:STANDARD
TZOFFSETFROM:+0200
TZOFFSETTO:+0100
TZNAME:CET
DTSTART:20251026T010000
END:STANDARD
END:VTIMEZONE
BEGIN:VEVENT
DTSTART;TZID=Europe/Warsaw:20250405T120000
DTEND;TZID=Europe/Warsaw:20250406T180000
DTSTAMP:20260420T214450
CREATED:20250317T105251Z
LAST-MODIFIED:20250317T105251Z
UID:14355-1743854400-1743962400@pokladykultury.eu
SUMMARY:EXOTICARIUM
DESCRIPTION:Miejski Ośrodek Sportu i Rekreacji w Zabrzu zaprasza na EXOTICARIUM\, najbardziej ekscytujące targi terrarystyczne w Polsce.\n \nCzy: Fascynują Cię egzotyczne zwierzęta? Chcesz poszerzyć swoją wiedzę o terrarystyce i odkryć fascynujące ciekawostki? Marzysz o rozpoczęciu własnej hodowli egzotycznych zwierząt?Jeśli odpowiedź brzmi TAK – EXOTICARIUM to wydarzenie stworzone właśnie dla Ciebie!—CO NAS WYRÓŻNIA?Zainspirowani światowymi targami\, przygotowaliśmy wydarzenie\, które oferuje: Ogromną przestrzeń wystawienniczą: nowoczesny obiekt gwarantujący komfort i swobodę zwiedzania. Wyselekcjonowanych wystawców: najlepsi specjaliści podzielą się swoją wiedzą i doświadczeniem. Wydarzenie dla każdego: od początkujących miłośników\, przez hodowców\, po sklepy zoologiczne i terrarystyczne poszukujące nowych kontaktów biznesowych. Niezwykłe zwierzęta: węże\, pająki\, modliszki\, skakuny\, gekony\, agamy\, mrówki\, żaby i wiele więcej! Sekcja botaniczna: rośliny do różnych biotopów w terrariach\, rarytasy dla kolekcjonerów oraz rośliny owadożerne. Unikatowe gatunki: egzotyczne zwierzęta tak rzadkie\, że trudno zobaczyć je gdziekolwiek indziej w Polsce! Najwyższa jakość organizacji: wydarzenie tworzone przez pasjonatów\, dla pasjonatów.\n—NOWOŚCI NA TARGACHW tym roku czekają na Was wyjątkowe zwierzęta prosto z USA:Psychoaktywna ropucha koloradzkaOgromne biczykoodwlokowcePająki i skorpiony z pustyni ArizonyWęże\, żaby\, skolopendry\, wije…i wiele\, wiele więcej!\n \nTo niepowtarzalna okazja\, by zobaczyć egzotyczne stworzenia z najodleglejszych zakątków świata – wszystko pod jednym dachem!Kiedy: 5-6 kwietnia 2025 (sobota + niedziela)Godziny: 10:00–16:00Gdzie: MOSiR Zabrze Hala Widowiskowo-Sportowa\, ul. Jana Matejki 6\, ZabrzeWstęp:Dzieci poniżej 6. roku życia – ZA DARMO!Bilety online: kup taniej pod linkiem: dostępne wkrótceBilety dostępne również na miejscu w dzień wydarzenia.—Dlaczego warto?Zafunduj sobie i swoim bliskim niezapomniane popołudnie w świecie egzotyki! Nie może Cię zabraknąć!Do zobaczenia na EXOTICARIUM! 
URL:https://pokladykultury.eu/event/exoticarium/
LOCATION:Miejski Ośrodek Sportu i Rekreacji\, ul. Matejki 6\, Zabrze\, śląskie\, 41-800\, Poland
ATTACH;FMTTYPE=image/jpeg:https://pokladykultury.eu/wp-content/uploads/2025/03/Exoticarium.jpg
END:VEVENT
END:VCALENDAR