BEGIN:VCALENDAR
VERSION:2.0
PRODID:-//Pokładykultury.eu - ECPv5.16.3.1//NONSGML v1.0//EN
CALSCALE:GREGORIAN
METHOD:PUBLISH
X-WR-CALNAME:Pokładykultury.eu
X-ORIGINAL-URL:https://pokladykultury.eu
X-WR-CALDESC:Wydarzenia dla Pokładykultury.eu
REFRESH-INTERVAL;VALUE=DURATION:PT1H
X-Robots-Tag:noindex
X-PUBLISHED-TTL:PT1H
BEGIN:VTIMEZONE
TZID:Europe/Warsaw
BEGIN:DAYLIGHT
TZOFFSETFROM:+0100
TZOFFSETTO:+0200
TZNAME:CEST
DTSTART:20240331T010000
END:DAYLIGHT
BEGIN:STANDARD
TZOFFSETFROM:+0200
TZOFFSETTO:+0100
TZNAME:CET
DTSTART:20241027T010000
END:STANDARD
END:VTIMEZONE
BEGIN:VEVENT
DTSTART;TZID=Europe/Warsaw:20241215T120000
DTEND;TZID=Europe/Warsaw:20241215T150000
DTSTAMP:20260423T232212
CREATED:20241209T114649Z
LAST-MODIFIED:20241209T115032Z
UID:13763-1734264000-1734274800@pokladykultury.eu
SUMMARY:II Charytatywny Turniej Piłki Nożnej o Puchar Rady Dzielnicy Osiedle Mikołaja Kopernika
DESCRIPTION:Już 15.12.2024 wspólnie z Multisport Rada Dzielnicy Osiedle Mikołaja Kopernika zapraszamy na II Charytatywny Turniej Piłki Nożnej o Puchar Rady Dzielnicy Osiedle Mikołaja Kopernika!\n\nPrzygotujcie się na niesamowitą dawkę sportowych emocji\, których doświadczycie na hali Multisport Zabrze przy ulicy Gagarina 2! Dla najlepszych drużyn okolicznościowe puchary\, medale i upominki.\n \nŚpieszcie się z zapisami\, bo ilość miejsc mocno ograniczona. Szczegóły na plakacie\, a regulamin w komentarzu pod postem na FB Rady Dzielnicy. Zapisy do 12.12.2024 r. pod numerem telefonu: 531 696 965 lub przez wiadomość prywatną.\n \nDo zobaczenia!
URL:https://pokladykultury.eu/event/13763/
LOCATION:Hala Multisport Zabrze\, ul. Gagarina 2\, Zabrze\, śląskie\, 41-800\, Poland
ATTACH;FMTTYPE=image/jpeg:https://pokladykultury.eu/wp-content/uploads/2024/12/Turniej-pilkarski.jpg
END:VEVENT
END:VCALENDAR