BEGIN:VCALENDAR
VERSION:2.0
PRODID:-//Pokładykultury.eu - ECPv5.16.3.1//NONSGML v1.0//EN
CALSCALE:GREGORIAN
METHOD:PUBLISH
X-ORIGINAL-URL:https://pokladykultury.eu
X-WR-CALDESC:Wydarzenia dla Pokładykultury.eu
REFRESH-INTERVAL;VALUE=DURATION:PT1H
X-Robots-Tag:noindex
X-PUBLISHED-TTL:PT1H
BEGIN:VTIMEZONE
TZID:Europe/Warsaw
BEGIN:DAYLIGHT
TZOFFSETFROM:+0100
TZOFFSETTO:+0200
TZNAME:CEST
DTSTART:20250330T010000
END:DAYLIGHT
BEGIN:STANDARD
TZOFFSETFROM:+0200
TZOFFSETTO:+0100
TZNAME:CET
DTSTART:20251026T010000
END:STANDARD
END:VTIMEZONE
BEGIN:VEVENT
DTSTART;TZID=Europe/Warsaw:20250725T180000
DTEND;TZID=Europe/Warsaw:20250725T200000
DTSTAMP:20260420T091941
CREATED:20250718T070923Z
LAST-MODIFIED:20250718T070923Z
UID:15640-1753466400-1753473600@pokladykultury.eu
SUMMARY:Zwiedzanie Zabytkowego Cmentarza Żydowskiego
DESCRIPTION:Stowarzyszenie Zachor zaprasza do odwiedzenia w najbliższe dwa lipcowe piątki miejsca niezwykłego\, którym jest zabytkowy XIX wieczny cmentarz żydowski.\n \nW dniu 25 lipca brama cmentarza będzie otwarta od godz. 16.00 do godz. 18.00.\n \nNa cmentarzu będzie zawsze obecny człowiek z Stowarzyszenia „Zachor”\, które na co dzień opiekuje się nekropolią. Na miejscu spotkasz Barbarę „Baszkę” Dziubak.\n \nPrzyjdź\, zostaw kamyk pamięci\, porozmawiaj\, zobacz miejsce\, gdzie czas się zatrzymał\, a wszystko co tu zobaczysz opowiada swoją historię zapisaną świętym językiem. Cmentarz Żydowski w Zabrzu ul. Cmentarna 15.\n \nUwaga mężczyzn prosimy o posiadanie nakrycia głowy.
URL:https://pokladykultury.eu/event/zwiedzanie-zabytkowego-cmentarza-zydowskiego-2/
LOCATION:Cmentarz Żydowski w Zabrzu\, ul. Cmentarna 15\, Zabrze\, śląskie\, 41-800\, Poland
ATTACH;FMTTYPE=image/jpeg:https://pokladykultury.eu/wp-content/uploads/2025/07/Cmentarz-zydowski.jpg
END:VEVENT
END:VCALENDAR